BEGIN:VCALENDAR
VERSION:2.0
PRODID:-//JIMS USA - ECPv6.15.13//NONSGML v1.0//EN
CALSCALE:GREGORIAN
METHOD:PUBLISH
X-ORIGINAL-URL:https://www.jimsusa.com
X-WR-CALDESC:Events for JIMS USA
REFRESH-INTERVAL;VALUE=DURATION:PT1H
X-Robots-Tag:noindex
X-PUBLISHED-TTL:PT1H
BEGIN:VTIMEZONE
TZID:UTC
BEGIN:STANDARD
TZOFFSETFROM:+0000
TZOFFSETTO:+0000
TZNAME:UTC
DTSTART:20240101T000000
END:STANDARD
END:VTIMEZONE
BEGIN:VEVENT
DTSTART;TZID=UTC:20251009T090000
DTEND;TZID=UTC:20251011T120000
DTSTAMP:20260423T151136
CREATED:20250814T083145Z
LAST-MODIFIED:20250814T083145Z
UID:3327-1760000400-1760184000@www.jimsusa.com
SUMMARY:Australian V-Twin Expo presented by Rollies Speed Shop
DESCRIPTION:
URL:https://www.jimsusa.com/event/australian-v-twin-expo-presented-by-rollies-speed-shop/
ATTACH;FMTTYPE=image/jpeg:https://www.jimsusa.com/wp-content/uploads/2025/08/v-twin-expo-2025_1600x792.jpg
END:VEVENT
BEGIN:VEVENT
DTSTART;VALUE=DATE:20250621
DTEND;VALUE=DATE:20250623
DTSTAMP:20260423T151136
CREATED:20250305T172503Z
LAST-MODIFIED:20250305T172643Z
UID:3284-1750464000-1750636799@www.jimsusa.com
SUMMARY:Born Free 16
DESCRIPTION:
URL:https://www.jimsusa.com/event/born-free-16/
LOCATION:Silverado\, CA\, Silverado\, CA\, United States
ATTACH;FMTTYPE=image/png:https://www.jimsusa.com/wp-content/uploads/2025/03/born-free-2025_JIMSUSA.png
END:VEVENT
BEGIN:VEVENT
DTSTART;TZID=UTC:20250209T080000
DTEND;TZID=UTC:20250209T160000
DTSTAMP:20260423T151136
CREATED:20250124T180546Z
LAST-MODIFIED:20250124T180613Z
UID:3272-1739088000-1739116800@www.jimsusa.com
SUMMARY:21st Annual ChopperFest
DESCRIPTION:
URL:https://www.jimsusa.com/event/21st-annual-chopperfest/
LOCATION:Ventura County Fairgrounds\, 10 E Harbor Blvd\, Ventura\, CA\, United States
ATTACH;FMTTYPE=image/png:https://www.jimsusa.com/wp-content/uploads/2025/01/Chopper-Fest-Motorcycle-Show.png
END:VEVENT
END:VCALENDAR